BEGIN:VCALENDAR
VERSION:2.0
PRODID:-//Obst- und Gartenbauverein Dietenhofen e.V.//NONSGML kigkonsult.se
  iCalcreator 2.30.10//
CALSCALE:GREGORIAN
METHOD:PUBLISH
UID:ed484b89-a325-4a5f-be04-cf3f85d0fe98
X-WR-CALNAME:iCagenda
X-WR-CALDESC:Event Management Extension for Joomla!
X-WR-RELCALID:3E26604A-50F4-4449-8B3E-E4F4932D05B5
X-WR-TIMEZONE:UTC
BEGIN:VTIMEZONE
TZID:UTC
END:VTIMEZONE
BEGIN:VEVENT
UID:2384a3d6-4f4c-4534-8d1f-f78034432a42
DTSTAMP:20260421T211944Z
CATEGORIES:Öffentliche Veranstaltung
CLASS:PUBLIC
DESCRIPTION;ALTREP="CID:<FFFF__=0ABBE548DFE235B58f9e8a93d@coffeebean.com>":
 Abgesagt:&nbsp\;&nbsp\;&nbsp\; \nLeider mussten wir die Besichtigung absag
 en\, da wir zuwenige Anmeldungen hatten.\nTreffpunkt ist am Freitag\, den 
 20. September um 13.00 Uhr am Mosthaus in Dietenhofen.\nIm Anschluss an di
 e Besichtigung gibt es noch Kaffee und Kuchen und Kaltgetränke.\nDer Unkos
 tenbeitrag von 15\,00 € wird im Bus eingesammelt.\nWir bitten um Anmeldung
  bis spätestens 10.09.2024 im Schuhhaus Schuh oder unter Email:\ninfo@ogv-
 dietenhofen.de\n&nbsp\;
DTSTART:20240920T130000Z
DTEND:20240920T180000Z
GEO:00;0
LOCATION:
ORGANIZER:
SEQUENCE:1
SUMMARY:Abgesagt!!!  Besichtigung der Lehranstalten in Triesdorf
TRANSP:OPAQUE
URL:http://ogv-dietenhofen.de/index.php/menu-veranstaltungen/menu-veranstal
 tungen-vergangene/12-fahrt-nach-triesdorf/2024-09-20-13-00
END:VEVENT
END:VCALENDAR
