BEGIN:VCALENDAR
VERSION:2.0
PRODID:-//Obst- und Gartenbauverein Dietenhofen e.V.//NONSGML kigkonsult.se
  iCalcreator 2.30.10//
CALSCALE:GREGORIAN
METHOD:PUBLISH
UID:ca143f9c-801d-4cec-a14f-417fbb570eb2
X-WR-CALNAME:iCagenda
X-WR-CALDESC:Event Management Extension for Joomla!
X-WR-RELCALID:3E26604A-50F4-4449-8B3E-E4F4932D05B5
X-WR-TIMEZONE:UTC
BEGIN:VTIMEZONE
TZID:UTC
END:VTIMEZONE
BEGIN:VEVENT
UID:d91d9dae-8f23-4ce8-a426-c9a9b19bb6c4
DTSTAMP:20260421T194504Z
CATEGORIES:Öffentliche Veranstaltung
CLASS:PUBLIC
DESCRIPTION;ALTREP="CID:<FFFF__=0ABBE548DFE235B58f9e8a93d@coffeebean.com>":
 Treffpunkt ist am Samstag\, den 26. Oktober um 13.00 Uhr am Mosthaus in Di
 etenhofen.\nWir fahren nach Zeilitzheim zu einer launigen Planwagenfahrt d
 urch die Weinberge.\nDie Fahrtkosten mit Weinprobe und Häppchen betragen 5
 5\,00 € und werden im Bus eingesammelt.\nWir bitten um Anmeldung bis späte
 stens 30.09.2024 im Schuhhaus Schuh oder unter Email:\ninfo@ogv-dietenhofe
 n.de
DTSTART:20241026T130000Z
DTEND:20241026T220000Z
GEO:00;0
LOCATION:
ORGANIZER:
SEQUENCE:1
SUMMARY:Planwagenfahrt mit Weinprobe
TRANSP:OPAQUE
URL:http://ogv-dietenhofen.de/index.php/menu-veranstaltungen/menu-veranstal
 tungen-vergangene/13-weinfahrt
END:VEVENT
END:VCALENDAR
