BEGIN:VCALENDAR
VERSION:2.0
PRODID:-//Obst- und Gartenbauverein Dietenhofen e.V.//NONSGML kigkonsult.se
  iCalcreator 2.30.10//
CALSCALE:GREGORIAN
METHOD:PUBLISH
UID:298a12bc-45d6-4e0d-a7a6-b03d2cbe5433
X-WR-CALNAME:iCagenda
X-WR-CALDESC:Event Management Extension for Joomla!
X-WR-RELCALID:3E26604A-50F4-4449-8B3E-E4F4932D05B5
X-WR-TIMEZONE:UTC
BEGIN:VTIMEZONE
TZID:UTC
END:VTIMEZONE
BEGIN:VEVENT
UID:a5760dd6-17d2-4a48-a47a-6cbf54738563
DTSTAMP:20260421T184936Z
CATEGORIES:Vereinsveranstaltungen
CLASS:PUBLIC
DESCRIPTION:
DTSTART:20250226T190000Z
DTEND:20250226T210000Z
GEO:00;0
LOCATION:Gasthaus Albrecht\, Dietenhofen
ORGANIZER;CN=:info@ogv-dietenhofen.de
SEQUENCE:1
SUMMARY:Jahreshauptversammlung
TRANSP:OPAQUE
URL:http://ogv-dietenhofen.de/index.php/menu-veranstaltungen/menu-veranstal
 tungen-vergangene/18-jahreshauptversammlung/2025-02-26-19-00
END:VEVENT
END:VCALENDAR
