BEGIN:VCALENDAR
VERSION:2.0
PRODID:-//Obst- und Gartenbauverein Dietenhofen e.V.//NONSGML kigkonsult.se
  iCalcreator 2.30.10//
CALSCALE:GREGORIAN
METHOD:PUBLISH
UID:ddb839cc-9ee5-456c-947a-bcea7dfd1b48
X-WR-CALNAME:iCagenda
X-WR-CALDESC:Event Management Extension for Joomla!
X-WR-RELCALID:3E26604A-50F4-4449-8B3E-E4F4932D05B5
X-WR-TIMEZONE:UTC
BEGIN:VTIMEZONE
TZID:UTC
END:VTIMEZONE
BEGIN:VEVENT
UID:42c51fdd-f07a-44d8-b430-2ac40aba7d89
DTSTAMP:20260421T172612Z
CATEGORIES:Vereinsveranstaltungen
CLASS:PUBLIC
DESCRIPTION:
DTSTART:20250407T133000Z
DTEND:20250407T163000Z
GEO:00;0
LOCATION:Bauhof\, Industriestr. 27\, 90599 Dietenhofen
ORGANIZER;CN=:info@ogv-dietenhofen.de
SEQUENCE:1
SUMMARY:Osterbrunnen binden
TRANSP:OPAQUE
URL:http://ogv-dietenhofen.de/index.php/menu-veranstaltungen/menu-veranstal
 tungen-vergangene/20-osterbrunnen-binden/2025-04-07-13-30
END:VEVENT
END:VCALENDAR
