BEGIN:VCALENDAR
VERSION:2.0
PRODID:-//Obst- und Gartenbauverein Dietenhofen e.V.//NONSGML kigkonsult.se
  iCalcreator 2.30.10//
CALSCALE:GREGORIAN
METHOD:PUBLISH
UID:a547e8dd-1868-40bb-90e9-31622fe26362
X-WR-CALNAME:iCagenda
X-WR-CALDESC:Event Management Extension for Joomla!
X-WR-RELCALID:3E26604A-50F4-4449-8B3E-E4F4932D05B5
X-WR-TIMEZONE:UTC
BEGIN:VTIMEZONE
TZID:UTC
END:VTIMEZONE
BEGIN:VEVENT
UID:38164915-9d99-4e24-b982-36e04eb0e461
DTSTAMP:20260422T062920Z
CATEGORIES:Kurse
CLASS:PUBLIC
DESCRIPTION;ALTREP="CID:<FFFF__=0ABBE548DFE235B58f9e8a93d@coffeebean.com>":
 Die Kinder lernen unter fachkundiger Anleitung säen\, pikieren\, pflanzen 
 und\numtopfen.
DTSTART:20250426T143000Z
DTEND:20250426T160000Z
GEO:00;0
LOCATION:Mosthaus Dietenhofen
ORGANIZER;CN=:info@ogv-dietenhofen.de
SEQUENCE:1
SUMMARY:Pflanzen mit Kindern
TRANSP:OPAQUE
URL:http://ogv-dietenhofen.de/index.php/menu-veranstaltungen/menu-veranstal
 tungen-vergangene/25-pflanzen-mit-kindern-2025/2025-04-26-14-30
END:VEVENT
END:VCALENDAR
