BEGIN:VCALENDAR
VERSION:2.0
PRODID:-//Obst- und Gartenbauverein Dietenhofen e.V.//NONSGML kigkonsult.se
  iCalcreator 2.30.10//
CALSCALE:GREGORIAN
METHOD:PUBLISH
UID:9a02b5ff-6070-478a-bff7-defbb74908e7
X-WR-CALNAME:iCagenda
X-WR-CALDESC:Event Management Extension for Joomla!
X-WR-RELCALID:3E26604A-50F4-4449-8B3E-E4F4932D05B5
X-WR-TIMEZONE:UTC
BEGIN:VTIMEZONE
TZID:UTC
END:VTIMEZONE
BEGIN:VEVENT
UID:8d92459f-3078-40ab-96f0-4e51192bb72f
DTSTAMP:20260421T165221Z
CATEGORIES:Vereinsveranstaltungen
CLASS:PUBLIC
DESCRIPTION;ALTREP="CID:<FFFF__=0ABBE548DFE235B58f9e8a93d@coffeebean.com>":
 Wir fahren mit einen Bus zur Landesgartenschau nach Furth im Wald
DTSTART:20250719T070000Z
DTEND:20250719T203000Z
GEO:00;0
LOCATION:Furth im Wald
ORGANIZER;CN=:info@ogv-dietenhofen.de
SEQUENCE:1
SUMMARY:Landesgartenschau in Furth im Wald
TRANSP:OPAQUE
URL:http://ogv-dietenhofen.de/index.php/menu-veranstaltungen/menu-veranstal
 tungen-vergangene/27-landesgartenschau-in-furth-im-wald/2025-07-19-07-00
END:VEVENT
END:VCALENDAR
