BEGIN:VCALENDAR
VERSION:2.0
PRODID:-//Obst- und Gartenbauverein Dietenhofen e.V.//NONSGML kigkonsult.se
  iCalcreator 2.30.10//
CALSCALE:GREGORIAN
METHOD:PUBLISH
UID:e1e35dfc-60ef-44a6-b53b-ed47ea04546c
X-WR-CALNAME:iCagenda
X-WR-CALDESC:Event Management Extension for Joomla!
X-WR-RELCALID:3E26604A-50F4-4449-8B3E-E4F4932D05B5
X-WR-TIMEZONE:UTC
BEGIN:VTIMEZONE
TZID:UTC
END:VTIMEZONE
BEGIN:VEVENT
UID:a7538bde-5b9f-4301-8c73-a028cb9341ef
DTSTAMP:20260422T062923Z
CATEGORIES:Öffentliche Veranstaltung
CLASS:PUBLIC
DESCRIPTION;ALTREP="CID:<FFFF__=0ABBE548DFE235B58f9e8a93d@coffeebean.com>":
 Wenn Sie ….\n-&nbsp\; zu viele Ableger von Pflanzen oder Sämlinge haben\, 
 &nbsp\;\n-&nbsp\; die Blumen im Garten zu groß geworden sind und geteilt o
 der ausgegraben werden müssen\,\n&nbsp\;&nbsp\;&nbsp\; diese aber zu schad
 e zum weg werfen sind\,\n&nbsp\;-&nbsp\; Platz in Ihrem Garten haben und n
 och Pflanzen suchen\, auch wenn Sie keine Pflanzen zum\n&nbsp\;&nbsp\;&nbs
 p\; Tauschen haben\,\n-&nbsp\; oder einfach nur Erfahrungen austauschen wo
 llen\,\ndann kommen Sie zu unserer\n1. Pflanzen-Tauschaktion ans Mosthaus.
 \nWir freuen uns über zahlreiche Teilnehmer und Interessenten (natürlich a
 uch für Nichtmitglieder)
DTSTART:20250426T140000Z
DTEND:20250426T160000Z
GEO:00;0
LOCATION:Mosthaus Dietenhofen
ORGANIZER;CN=:info@ogv-dietenhofen.de
SEQUENCE:1
SUMMARY:Pflanzen-Tauschaktion
TRANSP:OPAQUE
URL:http://ogv-dietenhofen.de/index.php/menu-veranstaltungen/menu-veranstal
 tungen-vergangene/28-pflanzen-tauschaktion/2025-04-26-14-00
END:VEVENT
END:VCALENDAR
