BEGIN:VCALENDAR
VERSION:2.0
PRODID:-//Obst- und Gartenbauverein Dietenhofen e.V.//NONSGML kigkonsult.se
  iCalcreator 2.30.10//
CALSCALE:GREGORIAN
METHOD:PUBLISH
UID:cf3df83e-80b4-4fa8-87e5-1a1677e19e5b
X-WR-CALNAME:iCagenda
X-WR-CALDESC:Event Management Extension for Joomla!
X-WR-RELCALID:3E26604A-50F4-4449-8B3E-E4F4932D05B5
X-WR-TIMEZONE:UTC
BEGIN:VTIMEZONE
TZID:UTC
END:VTIMEZONE
BEGIN:VEVENT
UID:1b0da861-653d-49f1-9ccf-22d45507677e
DTSTAMP:20260421T170351Z
CATEGORIES:Kurse
CLASS:PUBLIC
DESCRIPTION;ALTREP="CID:<FFFF__=0ABBE548DFE235B58f9e8a93d@coffeebean.com>":
 Unsere drei Baumwarte erklären das Schneiden von Obstbäumen. Anschließend 
 dürfen die Teilnehmer das neu erlernte Wissen&nbsp\;gleich anwenden. Bitte
  Arbeitshandschuhe und Astschere mitbringen.&nbsp\;&nbsp\;\nBitte anmelden
  per Email oder im Schuhhaus Arlt Dietenhofen.\n&nbsp\;\n&nbsp\;
DTSTART:20260228T100000Z
DTEND:20260228T140000Z
GEO:00;0
LOCATION:Treffpunkt: Kreuzung Rüdern-Haunoldshofen-Warzfelden\, am Schweine
 stall
ORGANIZER;CN=:info@ogv-dietenhofen.de
SEQUENCE:1
SUMMARY:Baumschnittkurs
TRANSP:OPAQUE
URL:http://ogv-dietenhofen.de/index.php/menu-veranstaltungen/menu-veranstal
 tungen-vergangene/34-baumschnittkurs-2026/2026-02-28-10-00
END:VEVENT
END:VCALENDAR
