BEGIN:VCALENDAR
VERSION:2.0
PRODID:-//Obst- und Gartenbauverein Dietenhofen e.V.//NONSGML kigkonsult.se
  iCalcreator 2.30.10//
CALSCALE:GREGORIAN
METHOD:PUBLISH
UID:5caeed56-a24c-4c66-99e9-df28d79e6ba5
X-WR-CALNAME:iCagenda
X-WR-CALDESC:Event Management Extension for Joomla!
X-WR-RELCALID:3E26604A-50F4-4449-8B3E-E4F4932D05B5
X-WR-TIMEZONE:UTC
BEGIN:VTIMEZONE
TZID:UTC
END:VTIMEZONE
BEGIN:VEVENT
UID:f377ebf1-b14b-4357-8b26-9025954bcfee
DTSTAMP:20260426T024902Z
CATEGORIES:Kurse
CLASS:PUBLIC
DESCRIPTION;ALTREP="CID:<FFFF__=0ABBE548DFE235B58f9e8a93d@coffeebean.com>":
 Die Kinder lernen das Säen\, Pikieren und Umtopfen.&nbsp\;\nUm besser plan
 en zu können\, bitten wir um Anmeldung unter Email oder im Schuhhaus Arlt 
 in Dietenhofen.
DTSTART:20260425T140000Z
DTEND:20260425T160000Z
GEO:00;0
LOCATION:Mosthaus Dietenhofen
ORGANIZER;CN=:info@ogv-dietenhofen.de
SEQUENCE:1
SUMMARY:Pflanzen mit Kindern
TRANSP:OPAQUE
URL:http://ogv-dietenhofen.de/index.php/menu-veranstaltungen/menu-veranstal
 tungen-vergangene/35-pflanzen-mit-kindern-2/2026-04-25-14-00
END:VEVENT
END:VCALENDAR
