BEGIN:VCALENDAR
VERSION:2.0
PRODID:-//Obst- und Gartenbauverein Dietenhofen e.V.//NONSGML kigkonsult.se
  iCalcreator 2.30.10//
CALSCALE:GREGORIAN
METHOD:PUBLISH
UID:3a60a860-c80c-4bb5-8be2-7d7a13e3f871
X-WR-CALNAME:iCagenda
X-WR-CALDESC:Event Management Extension for Joomla!
X-WR-RELCALID:3E26604A-50F4-4449-8B3E-E4F4932D05B5
X-WR-TIMEZONE:UTC
BEGIN:VTIMEZONE
TZID:UTC
END:VTIMEZONE
BEGIN:VEVENT
UID:f3b6fa30-821a-4330-9902-aabe3f64e354
DTSTAMP:20260426T024907Z
CATEGORIES:Öffentliche Veranstaltung
CLASS:PUBLIC
DESCRIPTION;ALTREP="CID:<FFFF__=0ABBE548DFE235B58f9e8a93d@coffeebean.com>":
 Sie können Pflanzen\, die Sie zuviel haben oder die zu groß geworden sind\
 , zum Tausch bringen. Wenn Sie Platz im Garten haben und noch Pflanzen bra
 uchen\, aber nichts zum Tauschen haben\, kein Problem. Viele Gartenbesitze
 r freuen sich\, wenn sie Abnehmer für ihre überzähligen Pflanzen haben. Si
 e dürfen aber auch gerne einfach zum 'Fachsimpeln' vorbeikommen.\nWir freu
 en uns über viele Interessenten.
DTSTART:20260425T140000Z
DTEND:20260425T140000Z
GEO:00;0
LOCATION:Mosthaus Dietenhofen
ORGANIZER;CN=:info@ogv-dietenhofen.de
SEQUENCE:1
SUMMARY:Pflanzentauschaktion
TRANSP:OPAQUE
URL:http://ogv-dietenhofen.de/index.php/menu-veranstaltungen/menu-veranstal
 tungen-vergangene/36-pflanzentauschaktion/2026-04-25-14-00
END:VEVENT
END:VCALENDAR
