BEGIN:VCALENDAR
VERSION:2.0
PRODID:-//Obst- und Gartenbauverein Dietenhofen e.V.//NONSGML kigkonsult.se
  iCalcreator 2.30.10//
CALSCALE:GREGORIAN
METHOD:PUBLISH
UID:fb4a55bc-d3fc-45bc-9fa4-49440cbdbd35
X-WR-CALNAME:iCagenda
X-WR-CALDESC:Event Management Extension for Joomla!
X-WR-RELCALID:3E26604A-50F4-4449-8B3E-E4F4932D05B5
X-WR-TIMEZONE:UTC
BEGIN:VTIMEZONE
TZID:UTC
END:VTIMEZONE
BEGIN:VEVENT
UID:a6e4551c-1caa-4a72-8dc1-a2b9f1b4f000
DTSTAMP:20260421T203640Z
CATEGORIES:Öffentliche Veranstaltung
CLASS:PUBLIC
DESCRIPTION;ALTREP="CID:<FFFF__=0ABBE548DFE235B58f9e8a93d@coffeebean.com>":
 Beerenschnittkurs für Frauen und Männer unter der Leitung von\nDieter Keim
 \nTreffpunkt: Garten der Familie Henninger\, Rüderner Str. in Dietenhofen
 \nBitte um Anmeldung unter obiger Email oder im Schuhhaus Schuh Tel. 09824
 /8785 in Dietenhofen
DTSTART:20240308T133000Z
DTEND:20240308T153000Z
GEO:00;0
LOCATION:
ORGANIZER;CN=:info@ogv-dietenhofen.de
SEQUENCE:1
SUMMARY:Beerenschnittkurs
TRANSP:OPAQUE
URL:http://ogv-dietenhofen.de/index.php/menu-veranstaltungen/menu-veranstal
 tungen-vergangene/5-beerenschnittkurs/2024-03-08-13-30
END:VEVENT
END:VCALENDAR
