BEGIN:VCALENDAR
VERSION:2.0
PRODID:-//Obst- und Gartenbauverein Dietenhofen e.V.//NONSGML kigkonsult.se
  iCalcreator 2.30.10//
CALSCALE:GREGORIAN
METHOD:PUBLISH
UID:47e2c048-6a63-40fa-abcd-04beca3866c4
X-WR-CALNAME:iCagenda
X-WR-CALDESC:Event Management Extension for Joomla!
X-WR-RELCALID:3E26604A-50F4-4449-8B3E-E4F4932D05B5
X-WR-TIMEZONE:UTC
BEGIN:VTIMEZONE
TZID:UTC
END:VTIMEZONE
BEGIN:VEVENT
UID:113cb8f7-4274-405e-ac00-82982aadc5d4
DTSTAMP:20260421T194541Z
CATEGORIES:Kurse
CLASS:PUBLIC
DESCRIPTION;ALTREP="CID:<FFFF__=0ABBE548DFE235B58f9e8a93d@coffeebean.com>":
 Wir treffen uns zum Binden der Bögen und Girladen für den Osterbrunnen
DTSTART:20240318T133000Z
DTEND:20240318T163000Z
GEO:00;0
LOCATION:
ORGANIZER;CN=:info@ogv-dietenhofen.de
SEQUENCE:1
SUMMARY:Osterbrunnen
TRANSP:OPAQUE
URL:http://ogv-dietenhofen.de/index.php/menu-veranstaltungen/menu-veranstal
 tungen-vergangene/6-osterbrunnen/2024-03-18-13-30
END:VEVENT
END:VCALENDAR
