BEGIN:VCALENDAR
VERSION:2.0
PRODID:-//Obst- und Gartenbauverein Dietenhofen e.V.//NONSGML kigkonsult.se
  iCalcreator 2.30.10//
CALSCALE:GREGORIAN
METHOD:PUBLISH
UID:29222380-af01-4b4e-a6ad-02b812d8fdca
X-WR-CALNAME:iCagenda
X-WR-CALDESC:Event Management Extension for Joomla!
X-WR-RELCALID:3E26604A-50F4-4449-8B3E-E4F4932D05B5
X-WR-TIMEZONE:UTC
BEGIN:VTIMEZONE
TZID:UTC
END:VTIMEZONE
BEGIN:VEVENT
UID:3f9accc2-7f29-4e27-bc5e-5ed78521833d
DTSTAMP:20260421T211829Z
CATEGORIES:Kurse
CLASS:PUBLIC
DESCRIPTION:
DTSTART:20240320T140000Z
DTEND:20240320T160000Z
GEO:00;0
LOCATION:
ORGANIZER;CN=:info@ogv-dietenhofen.de
SEQUENCE:1
SUMMARY:Schmücken des Osterbrunnen
TRANSP:OPAQUE
URL:http://ogv-dietenhofen.de/index.php/menu-veranstaltungen/menu-veranstal
 tungen-vergangene/7-schmuecken-des-osterbrunnen
END:VEVENT
END:VCALENDAR
