BEGIN:VCALENDAR
VERSION:2.0
PRODID:-//Obst- und Gartenbauverein Dietenhofen e.V.//NONSGML kigkonsult.se
  iCalcreator 2.30.10//
CALSCALE:GREGORIAN
METHOD:PUBLISH
UID:fd616920-947d-48fc-88ff-578b1a4f9005
X-WR-CALNAME:iCagenda
X-WR-CALDESC:Event Management Extension for Joomla!
X-WR-RELCALID:3E26604A-50F4-4449-8B3E-E4F4932D05B5
X-WR-TIMEZONE:UTC
BEGIN:VTIMEZONE
TZID:UTC
END:VTIMEZONE
BEGIN:VEVENT
UID:aa73983f-9010-4a88-8528-adb2901ac0e2
DTSTAMP:20260421T193843Z
CATEGORIES:Öffentliche Veranstaltung
CLASS:PUBLIC
DESCRIPTION;ALTREP="CID:<FFFF__=0ABBE548DFE235B58f9e8a93d@coffeebean.com>":
 Wir erklären Kindern ab 4 Jahren\, wie man sät\, pikiert und pflanzt.\nDie
  Kinder dürfen ihre Gärnereien mit heim nehmen.\nBitte um Anmeldung unter 
 Email oder im Schuhhaus Schuh Tel. 09824/8785
DTSTART:20240420T143000Z
DTEND:20240420T160000Z
GEO:00;0
LOCATION:
ORGANIZER;CN=:info@ogv-dietenhofen.de
SEQUENCE:1
SUMMARY:Pflanzen mit Kindern
TRANSP:OPAQUE
URL:http://ogv-dietenhofen.de/index.php/menu-veranstaltungen/menu-veranstal
 tungen-vergangene/8-pflanzen-mit-kindern
END:VEVENT
END:VCALENDAR
