BEGIN:VCALENDAR
VERSION:2.0
PRODID:-//Obst- und Gartenbauverein Dietenhofen e.V.//NONSGML kigkonsult.se
  iCalcreator 2.30.10//
CALSCALE:GREGORIAN
METHOD:PUBLISH
UID:4cfa28ff-0191-4e02-95d9-117cb060b7a5
X-WR-CALNAME:iCagenda
X-WR-CALDESC:Event Management Extension for Joomla!
X-WR-RELCALID:3E26604A-50F4-4449-8B3E-E4F4932D05B5
X-WR-TIMEZONE:UTC
BEGIN:VTIMEZONE
TZID:UTC
END:VTIMEZONE
BEGIN:VEVENT
UID:a78e1cc0-650c-4cb4-8162-45fa9db3d3cd
DTSTAMP:20260422T122001Z
CATEGORIES:Öffentliche Veranstaltung
CLASS:PUBLIC
DESCRIPTION;ALTREP="CID:<FFFF__=0ABBE548DFE235B58f9e8a93d@coffeebean.com>":
 Rettichfest am Mosthaus\nIn gemütlicher Biergartenatmosphäre können Sie ei
 ne\ndeftige Rettich-\, Romandur-\, oder Schinkenbrotzeit genießen.
DTSTART:20240608T160000Z
DTEND:20240608T220000Z
GEO:00;0
LOCATION:
ORGANIZER;CN=:info@ogv-dietenhofen.de
SEQUENCE:1
SUMMARY:Rettichfest
TRANSP:OPAQUE
URL:http://ogv-dietenhofen.de/index.php/menu-veranstaltungen/menu-veranstal
 tungen-vergangene/9-rettichfest
END:VEVENT
END:VCALENDAR
